BEGIN:VCALENDAR
PRODID:-//MatrixMaxx//RemoteApi//EN
VERSION:2.0
METHOD:PUBLISH
CALSCALE:GREGORIAN
X-ORIGINAL-URL:http://www.aipn.maxx.matrixdev.net/forms/meeting/MeetingFormPublic/view?id=667600000494
BEGIN:VEVENT
SUMMARY:US Chapter & UH Law Center Event "New Investment Opportunities in the Oil and Gas Sector in Ecuador"
LAST-MODIFIED:20171005T193000Z
UID:ci_667600000494@matrixgroup.net
CLASS:PUBLIC
CREATED:20171005T193000Z
DTSTAMP:20171005T193000Z
DTSTART:20171005T193000Z
X-FUNAMBOL-ALLDAY:1
LOCATION:University+of+Houston+Law+Center
DESCRIPTION:For+full+info+see+http%3A%2F%2Fwww.aipn.maxx.matrixdev.net%2Fforms%2Fmeeting%2FMeetingFormPublic%2Fview%3Fid%3D667600000494%0A
X-WR-CALDESC:For+full+info+see+http%3A%2F%2Fwww.aipn.maxx.matrixdev.net%2Fforms%2Fmeeting%2FMeetingFormPublic%2Fview%3Fid%3D667600000494%0A
X-WR-CALNAME:Maxx Calendar
DTEND:20171005T220000Z
URL:http://www.aipn.maxx.matrixdev.net/forms/meeting/MeetingFormPublic/view?id=667600000494
END:VEVENT
END:VCALENDAR