BEGIN:VCALENDAR
PRODID:-//MatrixMaxx//RemoteApi//EN
VERSION:2.0
METHOD:PUBLISH
CALSCALE:GREGORIAN
X-ORIGINAL-URL:http://www.aipn.maxx.matrixdev.net/forms/meeting/MeetingFormPublic/view?id=6E1200000334
BEGIN:VEVENT
SUMMARY:AP Chapter & AMPLA Networking Reception
LAST-MODIFIED:20171116T090000Z
UID:ci_6E1200000334@matrixgroup.net
CLASS:PUBLIC
CREATED:20171116T090000Z
DTSTAMP:20171116T090000Z
DTSTART:20171116T090000Z
X-FUNAMBOL-ALLDAY:1
LOCATION:Brookfield+Place+Tower+II%2C+L10
DESCRIPTION:For+full+info+see+http%3A%2F%2Fwww.aipn.maxx.matrixdev.net%2Fforms%2Fmeeting%2FMeetingFormPublic%2Fview%3Fid%3D6E1200000334%0A
X-WR-CALDESC:For+full+info+see+http%3A%2F%2Fwww.aipn.maxx.matrixdev.net%2Fforms%2Fmeeting%2FMeetingFormPublic%2Fview%3Fid%3D6E1200000334%0A
X-WR-CALNAME:Maxx Calendar
DTEND:20171116T113000Z
URL:http://www.aipn.maxx.matrixdev.net/forms/meeting/MeetingFormPublic/view?id=6E1200000334
END:VEVENT
END:VCALENDAR