BEGIN:VCALENDAR
PRODID:-//MatrixMaxx//RemoteApi//EN
VERSION:2.0
METHOD:PUBLISH
CALSCALE:GREGORIAN
X-ORIGINAL-URL:http://www.aipn.maxx.matrixdev.net/forms/meeting/MeetingFormPublic/view?id=713B0000043B
BEGIN:VEVENT
SUMMARY:CIS-FSU Chapter Event "Sole Risk in Russia?"
LAST-MODIFIED:20171113T153000Z
UID:ci_713B0000043B@matrixgroup.net
CLASS:PUBLIC
CREATED:20171113T153000Z
DTSTAMP:20171113T153000Z
DTSTART:20171113T153000Z
X-FUNAMBOL-ALLDAY:1
LOCATION:Dentons%2C+Jensen+House
DESCRIPTION:For+full+info+see+http%3A%2F%2Fwww.aipn.maxx.matrixdev.net%2Fforms%2Fmeeting%2FMeetingFormPublic%2Fview%3Fid%3D713B0000043B%0A
X-WR-CALDESC:For+full+info+see+http%3A%2F%2Fwww.aipn.maxx.matrixdev.net%2Fforms%2Fmeeting%2FMeetingFormPublic%2Fview%3Fid%3D713B0000043B%0A
X-WR-CALNAME:Maxx Calendar
DTEND:20171113T183000Z
URL:http://www.aipn.maxx.matrixdev.net/forms/meeting/MeetingFormPublic/view?id=713B0000043B
END:VEVENT
END:VCALENDAR