BEGIN:VCALENDAR
PRODID:-//MatrixMaxx//RemoteApi//EN
VERSION:2.0
METHOD:PUBLISH
CALSCALE:GREGORIAN
X-ORIGINAL-URL:http://www.aipn.maxx.matrixdev.net/forms/meeting/MeetingFormPublic/view?id=7621000005B2
BEGIN:VEVENT
SUMMARY:EA Chapter Event "Digitalization in the Oil & Gas Sector"
LAST-MODIFIED:20171123T173000Z
UID:ci_7621000005B2@matrixgroup.net
CLASS:PUBLIC
CREATED:20171123T173000Z
DTSTAMP:20171123T173000Z
DTSTART:20171123T173000Z
X-FUNAMBOL-ALLDAY:1
LOCATION:Baker+McKenzie
DESCRIPTION:For+full+info+see+http%3A%2F%2Fwww.aipn.maxx.matrixdev.net%2Fforms%2Fmeeting%2FMeetingFormPublic%2Fview%3Fid%3D7621000005B2%0A
X-WR-CALDESC:For+full+info+see+http%3A%2F%2Fwww.aipn.maxx.matrixdev.net%2Fforms%2Fmeeting%2FMeetingFormPublic%2Fview%3Fid%3D7621000005B2%0A
X-WR-CALNAME:Maxx Calendar
DTEND:20171123T200000Z
URL:http://www.aipn.maxx.matrixdev.net/forms/meeting/MeetingFormPublic/view?id=7621000005B2
END:VEVENT
END:VCALENDAR