BEGIN:VCALENDAR
PRODID:-//MatrixMaxx//RemoteApi//EN
VERSION:2.0
METHOD:PUBLISH
CALSCALE:GREGORIAN
X-ORIGINAL-URL:http://www.aipn.maxx.matrixdev.net/forms/meeting/MeetingFormPublic/view?id=7886000000CF
BEGIN:VEVENT
SUMMARY:US Chapter Holiday Reception
LAST-MODIFIED:20171208T003000Z
UID:ci_7886000000CF@matrixgroup.net
CLASS:PUBLIC
CREATED:20171208T003000Z
DTSTAMP:20171208T003000Z
DTSTART:20171208T003000Z
X-FUNAMBOL-ALLDAY:1
LOCATION:Churrascos+Memorial+City
DESCRIPTION:For full info see http://www.aipn.maxx.matrixdev.net/forms/meeting/MeetingFormPublic/view?id=7886000000CF\n
DTEND:20171208T023000Z
URL:http://www.aipn.maxx.matrixdev.net/forms/meeting/MeetingFormPublic/view?id=7886000000CF
END:VEVENT
END:VCALENDAR