BEGIN:VCALENDAR
PRODID:-//MatrixMaxx//RemoteApi//EN
VERSION:2.0
METHOD:PUBLISH
CALSCALE:GREGORIAN
X-ORIGINAL-URL:http://www.aipn.maxx.matrixdev.net/forms/meeting/MeetingFormPublic/view?id=7AA900000065
BEGIN:VEVENT
SUMMARY:EA Chapter Event "Reserves Reporting for the AIM Market"
LAST-MODIFIED:20171205T180000Z
UID:ci_7AA900000065@matrixgroup.net
CLASS:PUBLIC
CREATED:20171205T180000Z
DTSTAMP:20171205T180000Z
DTSTART:20171205T180000Z
X-FUNAMBOL-ALLDAY:1
LOCATION:CMS+Cameron+McKenna+Nabarro+Olswang+LLP
DESCRIPTION:For+full+info+see+http%3A%2F%2Fwww.aipn.maxx.matrixdev.net%2Fforms%2Fmeeting%2FMeetingFormPublic%2Fview%3Fid%3D7AA900000065%0A
X-WR-CALDESC:For+full+info+see+http%3A%2F%2Fwww.aipn.maxx.matrixdev.net%2Fforms%2Fmeeting%2FMeetingFormPublic%2Fview%3Fid%3D7AA900000065%0A
X-WR-CALNAME:Maxx Calendar
DTEND:20171205T193000Z
URL:http://www.aipn.maxx.matrixdev.net/forms/meeting/MeetingFormPublic/view?id=7AA900000065
END:VEVENT
END:VCALENDAR