BEGIN:VCALENDAR
PRODID:-//MatrixMaxx//RemoteApi//EN
VERSION:2.0
METHOD:PUBLISH
CALSCALE:GREGORIAN
X-ORIGINAL-URL:http://www.aipn.maxx.matrixdev.net/forms/meeting/MeetingFormPublic/view?id=7B3400000168
BEGIN:VEVENT
SUMMARY:Middle East Chapter Event "Growing Opportunities in Iraq: An Introduction to New Investment Opportunities and Legal and Practical Issues"
LAST-MODIFIED:20171120T043000Z
UID:ci_7B3400000168@matrixgroup.net
CLASS:PUBLIC
CREATED:20171120T043000Z
DTSTAMP:20171120T043000Z
DTSTART:20171120T043000Z
X-FUNAMBOL-ALLDAY:1
LOCATION:Capital+Club+-+Dubai+Room%2C+Building+No.+3
DESCRIPTION:For+full+info+see+http%3A%2F%2Fwww.aipn.maxx.matrixdev.net%2Fforms%2Fmeeting%2FMeetingFormPublic%2Fview%3Fid%3D7B3400000168%0A
X-WR-CALDESC:For+full+info+see+http%3A%2F%2Fwww.aipn.maxx.matrixdev.net%2Fforms%2Fmeeting%2FMeetingFormPublic%2Fview%3Fid%3D7B3400000168%0A
X-WR-CALNAME:Maxx Calendar
DTEND:20171120T060000Z
URL:http://www.aipn.maxx.matrixdev.net/forms/meeting/MeetingFormPublic/view?id=7B3400000168
END:VEVENT
END:VCALENDAR