BEGIN:VCALENDAR
PRODID:-//MatrixMaxx//RemoteApi//EN
VERSION:2.0
METHOD:PUBLISH
CALSCALE:GREGORIAN
X-ORIGINAL-URL:http://www.aipn.maxx.matrixdev.net/forms/meeting/MeetingFormPublic/view?id=7DD7000001E6
BEGIN:VEVENT
SUMMARY:AIPN-YN US Chapter Breakfast Speaker Series: AIPN Model Form JOA
LAST-MODIFIED:20171114T133000Z
UID:ci_7DD7000001E6@matrixgroup.net
CLASS:PUBLIC
CREATED:20171114T133000Z
DTSTAMP:20171114T133000Z
DTSTART:20171114T133000Z
X-FUNAMBOL-ALLDAY:1
LOCATION:Norton+Rose+Fulbright
DESCRIPTION:For full info see http://www.aipn.maxx.matrixdev.net/forms/meeting/MeetingFormPublic/view?id=7DD7000001E6\n
DTEND:20171114T150000Z
URL:http://www.aipn.maxx.matrixdev.net/forms/meeting/MeetingFormPublic/view?id=7DD7000001E6
END:VEVENT
END:VCALENDAR