BEGIN:VCALENDAR
PRODID:-//MatrixMaxx//RemoteApi//EN
VERSION:2.0
METHOD:PUBLISH
CALSCALE:GREGORIAN
X-ORIGINAL-URL:http://www.aipn.maxx.matrixdev.net/forms/meeting/MeetingFormPublic/view?id=7DE1000002B7
BEGIN:VEVENT
SUMMARY:Middle East Chapter Networking Reception
LAST-MODIFIED:20171113T150000Z
UID:ci_7DE1000002B7@matrixgroup.net
CLASS:PUBLIC
CREATED:20171113T150000Z
DTSTAMP:20171113T150000Z
DTSTART:20171113T150000Z
X-FUNAMBOL-ALLDAY:1
LOCATION:Centro+Capital+Center%2C+Pool+Area
DESCRIPTION:For+full+info+see+http%3A%2F%2Fwww.aipn.maxx.matrixdev.net%2Fforms%2Fmeeting%2FMeetingFormPublic%2Fview%3Fid%3D7DE1000002B7%0A
X-WR-CALDESC:For+full+info+see+http%3A%2F%2Fwww.aipn.maxx.matrixdev.net%2Fforms%2Fmeeting%2FMeetingFormPublic%2Fview%3Fid%3D7DE1000002B7%0A
X-WR-CALNAME:Maxx Calendar
DTEND:20171113T170000Z
URL:http://www.aipn.maxx.matrixdev.net/forms/meeting/MeetingFormPublic/view?id=7DE1000002B7
END:VEVENT
END:VCALENDAR