BEGIN:VCALENDAR
PRODID:-//MatrixMaxx//RemoteApi//EN
VERSION:2.0
METHOD:PUBLISH
CALSCALE:GREGORIAN
X-ORIGINAL-URL:http://www.aipn.maxx.matrixdev.net/forms/meeting/Microsite/CoreCourse18
BEGIN:VEVENT
SUMMARY:2018 Core Course on International Oil & Gas Law
LAST-MODIFIED:20180311
UID:ci_81A200000025@matrixgroup.net
CLASS:PUBLIC
CREATED:20180311
DTSTAMP:20180311
DTSTART:20180311
X-FUNAMBOL-ALLDAY:1
LOCATION:Eni+University
DESCRIPTION:For+full+info+see+http%3A%2F%2Fwww.aipn.maxx.matrixdev.net%2Fforms%2Fmeeting%2FMicrosite%2FCoreCourse18%0A
X-WR-CALDESC:For+full+info+see+http%3A%2F%2Fwww.aipn.maxx.matrixdev.net%2Fforms%2Fmeeting%2FMicrosite%2FCoreCourse18%0A
X-WR-CALNAME:Maxx Calendar
DTEND:20180316
URL:http://www.aipn.maxx.matrixdev.net/forms/meeting/Microsite/CoreCourse18
END:VEVENT
END:VCALENDAR