BEGIN:VCALENDAR
PRODID:-//MatrixMaxx//RemoteApi//EN
VERSION:2.0
METHOD:PUBLISH
CALSCALE:GREGORIAN
X-ORIGINAL-URL:http://www.aipn.maxx.matrixdev.net/forms/meeting/MeetingFormPublic/view?id=85CD0000018A
BEGIN:VEVENT
SUMMARY:EA Chapter Holiday Reception Paris
LAST-MODIFIED:20171213T173000Z
UID:ci_85CD0000018A@matrixgroup.net
CLASS:PUBLIC
CREATED:20171213T173000Z
DTSTAMP:20171213T173000Z
DTSTART:20171213T173000Z
X-FUNAMBOL-ALLDAY:1
LOCATION:Ashurst+LLP
DESCRIPTION:For+full+info+see+http%3A%2F%2Fwww.aipn.maxx.matrixdev.net%2Fforms%2Fmeeting%2FMeetingFormPublic%2Fview%3Fid%3D85CD0000018A%0A
X-WR-CALDESC:For+full+info+see+http%3A%2F%2Fwww.aipn.maxx.matrixdev.net%2Fforms%2Fmeeting%2FMeetingFormPublic%2Fview%3Fid%3D85CD0000018A%0A
X-WR-CALNAME:Maxx Calendar
DTEND:20171213T193000Z
URL:http://www.aipn.maxx.matrixdev.net/forms/meeting/MeetingFormPublic/view?id=85CD0000018A
END:VEVENT
END:VCALENDAR