BEGIN:VCALENDAR
PRODID:-//MatrixMaxx//RemoteApi//EN
VERSION:2.0
METHOD:PUBLISH
CALSCALE:GREGORIAN
X-ORIGINAL-URL:http://www.aipn.maxx.matrixdev.net/forms/meeting/Microsite/MCWS2018
BEGIN:VEVENT
SUMMARY:2018 Model Contracts Workshop
LAST-MODIFIED:20180911
UID:ci_8D290000054B@matrixgroup.net
CLASS:PUBLIC
CREATED:20180911
DTSTAMP:20180911
DTSTART:20180911
X-FUNAMBOL-ALLDAY:1
LOCATION:Hotel+Talisa
DESCRIPTION:For+full+info+see+http%3A%2F%2Fwww.aipn.maxx.matrixdev.net%2Fforms%2Fmeeting%2FMicrosite%2FMCWS2018%0AAIPN+2018+Model+Contracts+Workshop%0D%0ASeptember+11+-+14%2C+2018%2C+Hotel+Talisa%2C+Vail%2C+Colorado
X-WR-CALDESC:For+full+info+see+http%3A%2F%2Fwww.aipn.maxx.matrixdev.net%2Fforms%2Fmeeting%2FMicrosite%2FMCWS2018%0AAIPN+2018+Model+Contracts+Workshop%0D%0ASeptember+11+-+14%2C+2018%2C+Hotel+Talisa%2C+Vail%2C+Colorado
X-WR-CALNAME:Maxx Calendar
DTEND:20180915
URL:http://www.aipn.maxx.matrixdev.net/forms/meeting/Microsite/MCWS2018
END:VEVENT
END:VCALENDAR