BEGIN:VCALENDAR
PRODID:-//MatrixMaxx//RemoteApi//EN
VERSION:2.0
METHOD:PUBLISH
CALSCALE:GREGORIAN
X-ORIGINAL-URL:http://www.aipn.maxx.matrixdev.net/forms/meeting/Microsite/ea15february2018
BEGIN:VEVENT
SUMMARY:EA Chapter Event "Domestic Gas Production and Utilization in Nigeria: Upsides and Obstacles"
LAST-MODIFIED:20180215T120000Z
UID:ci_98B300000423@matrixgroup.net
CLASS:PUBLIC
CREATED:20180215T120000Z
DTSTAMP:20180215T120000Z
DTSTART:20180215T120000Z
X-FUNAMBOL-ALLDAY:1
LOCATION:4th+Floor%2C+Union+Marble+House
DESCRIPTION:For full info see http://www.aipn.maxx.matrixdev.net/forms/meeting/Microsite/ea15february2018\n
DTEND:20180215T150000Z
URL:http://www.aipn.maxx.matrixdev.net/forms/meeting/Microsite/ea15february2018
END:VEVENT
END:VCALENDAR