BEGIN:VCALENDAR
PRODID:-//MatrixMaxx//RemoteApi//EN
VERSION:2.0
METHOD:PUBLISH
CALSCALE:GREGORIAN
X-ORIGINAL-URL:http://www.aipn.maxx.matrixdev.net/forms/meeting/MeetingFormPublic/view?id=A55700000355
BEGIN:VEVENT
SUMMARY:Canada Chapter Event "ROFR Trends in Transactions, Disputes and Practice in Canada"
LAST-MODIFIED:20180410T180000Z
UID:ci_A55700000355@matrixgroup.net
CLASS:PUBLIC
CREATED:20180410T180000Z
DTSTAMP:20180410T180000Z
DTSTART:20180410T180000Z
X-FUNAMBOL-ALLDAY:1
LOCATION:Burnet%2C+Duckworth+%26+Palmer+LLP
DESCRIPTION:For full info see http://www.aipn.maxx.matrixdev.net/forms/meeting/MeetingFormPublic/view?id=A55700000355\n
DTEND:20180410T191500Z
URL:http://www.aipn.maxx.matrixdev.net/forms/meeting/MeetingFormPublic/view?id=A55700000355
END:VEVENT
END:VCALENDAR