BEGIN:VCALENDAR
PRODID:-//MatrixMaxx//RemoteApi//EN
VERSION:2.0
METHOD:PUBLISH
CALSCALE:GREGORIAN
X-ORIGINAL-URL:http://www.aipn.maxx.matrixdev.net/forms/meeting/Microsite/LisbonSept16
BEGIN:VEVENT
SUMMARY:Europe Chapter Conference "Oil & Gas: New Questions, Old Challenges, Different Geographies"
LAST-MODIFIED:20180915
UID:ci_A8D3000002EE@matrixgroup.net
CLASS:PUBLIC
CREATED:20180915
DTSTAMP:20180915
DTSTART:20180915
X-FUNAMBOL-ALLDAY:1
LOCATION:Pestana+Palace+Hotel
DESCRIPTION:For+full+info+see+http%3A%2F%2Fwww.aipn.maxx.matrixdev.net%2Fforms%2Fmeeting%2FMicrosite%2FLisbonSept16%0A
X-WR-CALDESC:For+full+info+see+http%3A%2F%2Fwww.aipn.maxx.matrixdev.net%2Fforms%2Fmeeting%2FMicrosite%2FLisbonSept16%0A
X-WR-CALNAME:Maxx Calendar
DTEND:20180918
URL:http://www.aipn.maxx.matrixdev.net/forms/meeting/Microsite/LisbonSept16
END:VEVENT
END:VCALENDAR