BEGIN:VCALENDAR
PRODID:-//MatrixMaxx//RemoteApi//EN
VERSION:2.0
METHOD:PUBLISH
CALSCALE:GREGORIAN
X-ORIGINAL-URL:http://www.aipn.maxx.matrixdev.net/forms/meeting/Microsite/2018Europe26April18
BEGIN:VEVENT
SUMMARY:Europe Chapter International Petroleum Scholar Workshop
LAST-MODIFIED:20180426T090000Z
UID:ci_B2180000002F@matrixgroup.net
CLASS:PUBLIC
CREATED:20180426T090000Z
DTSTAMP:20180426T090000Z
DTSTART:20180426T090000Z
X-FUNAMBOL-ALLDAY:1
LOCATION:Woolgate+Exchange
DESCRIPTION:For+full+info+see+http%3A%2F%2Fwww.aipn.maxx.matrixdev.net%2Fforms%2Fmeeting%2FMicrosite%2F2018Europe26April18%0A
X-WR-CALDESC:For+full+info+see+http%3A%2F%2Fwww.aipn.maxx.matrixdev.net%2Fforms%2Fmeeting%2FMicrosite%2F2018Europe26April18%0A
X-WR-CALNAME:Maxx Calendar
DTEND:20180426T140000Z
URL:http://www.aipn.maxx.matrixdev.net/forms/meeting/Microsite/2018Europe26April18
END:VEVENT
END:VCALENDAR