BEGIN:VCALENDAR
PRODID:-//MatrixMaxx//RemoteApi//EN
VERSION:2.0
METHOD:PUBLISH
CALSCALE:GREGORIAN
X-ORIGINAL-URL:http://www.aipn.maxx.matrixdev.net/forms/meeting/MeetingFormPublic/view?id=B3EA000008C8
BEGIN:VEVENT
SUMMARY:MENA Chapter Event "AIPN Model International Area of Mutual Interest Agreement: Up-Front Alternative"
LAST-MODIFIED:20180312T083000Z
UID:ci_B3EA000008C8@matrixgroup.net
CLASS:PUBLIC
CREATED:20180312T083000Z
DTSTAMP:20180312T083000Z
DTSTART:20180312T083000Z
X-FUNAMBOL-ALLDAY:1
LOCATION:Dentons+%26+Co.+Level+18
DESCRIPTION:For full info see http://www.aipn.maxx.matrixdev.net/forms/meeting/MeetingFormPublic/view?id=B3EA000008C8\n
DTEND:20180312T100000Z
URL:http://www.aipn.maxx.matrixdev.net/forms/meeting/MeetingFormPublic/view?id=B3EA000008C8
END:VEVENT
END:VCALENDAR