BEGIN:VCALENDAR
PRODID:-//MatrixMaxx//RemoteApi//EN
VERSION:2.0
METHOD:PUBLISH
CALSCALE:GREGORIAN
X-ORIGINAL-URL:http://www.aipn.maxx.matrixdev.net/forms/meeting/Microsite/2018Europe11April18
BEGIN:VEVENT
SUMMARY:Europe Chapter & EVOLEN Event "Oil & Gas Financing"
LAST-MODIFIED:20180411T140000Z
UID:ci_BAA4000000BB@matrixgroup.net
CLASS:PUBLIC
CREATED:20180411T140000Z
DTSTAMP:20180411T140000Z
DTSTART:20180411T140000Z
X-FUNAMBOL-ALLDAY:1
LOCATION:Orrick
DESCRIPTION:For+full+info+see+http%3A%2F%2Fwww.aipn.maxx.matrixdev.net%2Fforms%2Fmeeting%2FMicrosite%2F2018Europe11April18%0A
X-WR-CALDESC:For+full+info+see+http%3A%2F%2Fwww.aipn.maxx.matrixdev.net%2Fforms%2Fmeeting%2FMicrosite%2F2018Europe11April18%0A
X-WR-CALNAME:Maxx Calendar
DTEND:20180411T163000Z
URL:http://www.aipn.maxx.matrixdev.net/forms/meeting/Microsite/2018Europe11April18
END:VEVENT
END:VCALENDAR