BEGIN:VCALENDAR
PRODID:-//MatrixMaxx//RemoteApi//EN
VERSION:2.0
METHOD:PUBLISH
CALSCALE:GREGORIAN
X-ORIGINAL-URL:http://www.aipn.maxx.matrixdev.net/forms/meeting/Microsite/MCWS2024
BEGIN:VEVENT
SUMMARY:2024 Model Contracts Workshop
LAST-MODIFIED:20240916
UID:ci_BE29E00000133@matrixgroup.net
CLASS:PUBLIC
CREATED:20240916
DTSTAMP:20240916
DTSTART:20240916
X-FUNAMBOL-ALLDAY:1
LOCATION:Stephen+F+Austin+Royal+Sonesta+Hotel
DESCRIPTION:For+full+info+see+http%3A%2F%2Fwww.aipn.maxx.matrixdev.net%2Fforms%2Fmeeting%2FMicrosite%2FMCWS2024%0A2024+AIEN+Model+Contracts+Workshop%0D%0AAustin%2C+Texas%0D%0AStephen+F+Austin+Royal+Sonesta+Hotel
X-WR-CALDESC:For+full+info+see+http%3A%2F%2Fwww.aipn.maxx.matrixdev.net%2Fforms%2Fmeeting%2FMicrosite%2FMCWS2024%0A2024+AIEN+Model+Contracts+Workshop%0D%0AAustin%2C+Texas%0D%0AStephen+F+Austin+Royal+Sonesta+Hotel
X-WR-CALNAME:Maxx Calendar
DTEND:20240920
URL:http://www.aipn.maxx.matrixdev.net/forms/meeting/Microsite/MCWS2024
END:VEVENT
END:VCALENDAR