BEGIN:VCALENDAR
PRODID:-//MatrixMaxx//RemoteApi//EN
VERSION:2.0
METHOD:PUBLISH
CALSCALE:GREGORIAN
X-ORIGINAL-URL:http://www.aipn.maxx.matrixdev.net/forms/meeting/Microsite/EuropeConference2024
BEGIN:VEVENT
SUMMARY:Europe Chapter Conference "The Future of Energy"
LAST-MODIFIED:20240415T133000Z
UID:ci_C00BB000000ED@matrixgroup.net
CLASS:PUBLIC
CREATED:20240415T133000Z
DTSTAMP:20240415T133000Z
DTSTART:20240415T133000Z
X-FUNAMBOL-ALLDAY:1
LOCATION:InterContinental+Hotel
DESCRIPTION:For full info see http://www.aipn.maxx.matrixdev.net/forms/meeting/Microsite/EuropeConference2024\nEurope Regional Chapter Conference "The Future of Energy"\nVienna, Austria
DTEND:20240416T213000Z
URL:http://www.aipn.maxx.matrixdev.net/forms/meeting/Microsite/EuropeConference2024
END:VEVENT
END:VCALENDAR