BEGIN:VCALENDAR
PRODID:-//MatrixMaxx//RemoteApi//EN
VERSION:2.0
METHOD:PUBLISH
CALSCALE:GREGORIAN
X-ORIGINAL-URL:http://www.aipn.maxx.matrixdev.net/forms/meeting/Microsite/MCWS2017
BEGIN:VEVENT
SUMMARY:2017 Model Contracts Workshop
LAST-MODIFIED:20170619
UID:ci_C0C000001F2@matrixgroup.net
CLASS:PUBLIC
CREATED:20170619
DTSTAMP:20170619
DTSTART:20170619
X-FUNAMBOL-ALLDAY:1
LOCATION:Hotel+Continental
DESCRIPTION:For full info see http://www.aipn.maxx.matrixdev.net/forms/meeting/Microsite/MCWS2017\n
DTEND:20170623
URL:http://www.aipn.maxx.matrixdev.net/forms/meeting/Microsite/MCWS2017
END:VEVENT
END:VCALENDAR