BEGIN:VCALENDAR
PRODID:-//MatrixMaxx//RemoteApi//EN
VERSION:2.0
METHOD:PUBLISH
CALSCALE:GREGORIAN
X-ORIGINAL-URL:http://www.aipn.maxx.matrixdev.net/forms/meeting/MeetingFormPublic/view?id=C1E00000000B
BEGIN:VEVENT
SUMMARY:AIPN-YN Europe Chapter Reception
LAST-MODIFIED:20180425T160000Z
UID:ci_C1E00000000B@matrixgroup.net
CLASS:PUBLIC
CREATED:20180425T160000Z
DTSTAMP:20180425T160000Z
DTSTART:20180425T160000Z
X-FUNAMBOL-ALLDAY:1
LOCATION:The+Kings+Head
DESCRIPTION:For+full+info+see+http%3A%2F%2Fwww.aipn.maxx.matrixdev.net%2Fforms%2Fmeeting%2FMeetingFormPublic%2Fview%3Fid%3DC1E00000000B%0A
X-WR-CALDESC:For+full+info+see+http%3A%2F%2Fwww.aipn.maxx.matrixdev.net%2Fforms%2Fmeeting%2FMeetingFormPublic%2Fview%3Fid%3DC1E00000000B%0A
X-WR-CALNAME:Maxx Calendar
DTEND:20180425T200000Z
URL:http://www.aipn.maxx.matrixdev.net/forms/meeting/MeetingFormPublic/view?id=C1E00000000B
END:VEVENT
END:VCALENDAR