BEGIN:VCALENDAR
PRODID:-//MatrixMaxx//RemoteApi//EN
VERSION:2.0
METHOD:PUBLISH
CALSCALE:GREGORIAN
X-ORIGINAL-URL:http://www.aipn.maxx.matrixdev.net/forms/meeting/Microsite/AIENSeminarNAPE2024
BEGIN:VEVENT
SUMMARY:AIEN Seminar at NAPE 2024
LAST-MODIFIED:20240206T150000Z
UID:ci_C43320000001A@matrixgroup.net
CLASS:PUBLIC
CREATED:20240206T150000Z
DTSTAMP:20240206T150000Z
DTSTART:20240206T150000Z
X-FUNAMBOL-ALLDAY:1
LOCATION:George+R.+Brown+Convention+Center%2C+Meeting+Room+330%2C+3rd+Floor
DESCRIPTION:For+full+info+see+http%3A%2F%2Fwww.aipn.maxx.matrixdev.net%2Fforms%2Fmeeting%2FMicrosite%2FAIENSeminarNAPE2024%0A
X-WR-CALDESC:For+full+info+see+http%3A%2F%2Fwww.aipn.maxx.matrixdev.net%2Fforms%2Fmeeting%2FMicrosite%2FAIENSeminarNAPE2024%0A
X-WR-CALNAME:Maxx Calendar
DTEND:20240206T230000Z
URL:http://www.aipn.maxx.matrixdev.net/forms/meeting/Microsite/AIENSeminarNAPE2024
END:VEVENT
END:VCALENDAR