BEGIN:VCALENDAR
PRODID:-//MatrixMaxx//RemoteApi//EN
VERSION:2.0
METHOD:PUBLISH
CALSCALE:GREGORIAN
X-ORIGINAL-URL:http://www.aipn.maxx.matrixdev.net/forms/meeting/Microsite/DR2024
BEGIN:VEVENT
SUMMARY:Dispute Resolution in the International Energy Business
LAST-MODIFIED:20241014
UID:ci_CC06100000009@matrixgroup.net
CLASS:PUBLIC
CREATED:20241014
DTSTAMP:20241014
DTSTART:20241014
X-FUNAMBOL-ALLDAY:1
LOCATION:Omni+Houston+Hotel
DESCRIPTION:For+full+info+see+http%3A%2F%2Fwww.aipn.maxx.matrixdev.net%2Fforms%2Fmeeting%2FMicrosite%2FDR2024%0A2024+Dispute+Resolution+Conference%0D%0AOmni+Hotel%2C+Houston%2C+Texas
X-WR-CALDESC:For+full+info+see+http%3A%2F%2Fwww.aipn.maxx.matrixdev.net%2Fforms%2Fmeeting%2FMicrosite%2FDR2024%0A2024+Dispute+Resolution+Conference%0D%0AOmni+Hotel%2C+Houston%2C+Texas
X-WR-CALNAME:Maxx Calendar
DTEND:20241016
URL:http://www.aipn.maxx.matrixdev.net/forms/meeting/Microsite/DR2024
END:VEVENT
END:VCALENDAR