BEGIN:VCALENDAR
PRODID:-//MatrixMaxx//RemoteApi//EN
VERSION:2.0
METHOD:PUBLISH
CALSCALE:GREGORIAN
X-ORIGINAL-URL:http://www.aipn.maxx.matrixdev.net/forms/meeting/Microsite/GasCourse2024
BEGIN:VEVENT
SUMMARY:2024 Gas Course: From PSC to LNG
LAST-MODIFIED:20240701
UID:ci_DBFD300000001@matrixgroup.net
CLASS:PUBLIC
CREATED:20240701
DTSTAMP:20240701
DTSTART:20240701
X-FUNAMBOL-ALLDAY:1
LOCATION:Kilamba+Building+Conference+Room
DESCRIPTION:For+full+info+see+http%3A%2F%2Fwww.aipn.maxx.matrixdev.net%2Fforms%2Fmeeting%2FMicrosite%2FGasCourse2024%0A2024+AIEN+Gas+Course%3A+From+PSC+to+LNG%0D%0AJuly+2+-+4%2C+2024%2C+Luanda%2C+Angola
X-WR-CALDESC:For+full+info+see+http%3A%2F%2Fwww.aipn.maxx.matrixdev.net%2Fforms%2Fmeeting%2FMicrosite%2FGasCourse2024%0A2024+AIEN+Gas+Course%3A+From+PSC+to+LNG%0D%0AJuly+2+-+4%2C+2024%2C+Luanda%2C+Angola
X-WR-CALNAME:Maxx Calendar
DTEND:20240704
URL:http://www.aipn.maxx.matrixdev.net/forms/meeting/Microsite/GasCourse2024
END:VEVENT
END:VCALENDAR