BEGIN:VCALENDAR
PRODID:-//MatrixMaxx//RemoteApi//EN
VERSION:2.0
METHOD:PUBLISH
CALSCALE:GREGORIAN
X-ORIGINAL-URL:http://www.aipn.maxx.matrixdev.net/forms/meeting/MeetingFormPublic/view?id=DDD9000000AE
BEGIN:VEVENT
SUMMARY:Europe Chapter Event "Financing of Oil & Gas Assets in Mature Basins"
LAST-MODIFIED:20180614T160000Z
UID:ci_DDD9000000AE@matrixgroup.net
CLASS:PUBLIC
CREATED:20180614T160000Z
DTSTAMP:20180614T160000Z
DTSTART:20180614T160000Z
X-FUNAMBOL-ALLDAY:1
LOCATION:Watson+Farley+%26+Williams
DESCRIPTION:For full info see http://www.aipn.maxx.matrixdev.net/forms/meeting/MeetingFormPublic/view?id=DDD9000000AE\n
DTEND:20180614T203000Z
URL:http://www.aipn.maxx.matrixdev.net/forms/meeting/MeetingFormPublic/view?id=DDD9000000AE
END:VEVENT
END:VCALENDAR