BEGIN:VCALENDAR
PRODID:-//MatrixMaxx//RemoteApi//EN
VERSION:2.0
METHOD:PUBLISH
CALSCALE:GREGORIAN
X-ORIGINAL-URL:http://www.aipn.maxx.matrixdev.net/forms/meeting/MeetingFormPublic/view?id=DDEA00000711
BEGIN:VEVENT
SUMMARY:Canada Chapter Event "The Third Wave of Digitization in the Oil & Gas Industry"
LAST-MODIFIED:20180528T174500Z
UID:ci_DDEA00000711@matrixgroup.net
CLASS:PUBLIC
CREATED:20180528T174500Z
DTSTAMP:20180528T174500Z
DTSTART:20180528T174500Z
X-FUNAMBOL-ALLDAY:1
LOCATION:Offices+of+Progress+Energy
DESCRIPTION:For+full+info+see+http%3A%2F%2Fwww.aipn.maxx.matrixdev.net%2Fforms%2Fmeeting%2FMeetingFormPublic%2Fview%3Fid%3DDDEA00000711%0A
X-WR-CALDESC:For+full+info+see+http%3A%2F%2Fwww.aipn.maxx.matrixdev.net%2Fforms%2Fmeeting%2FMeetingFormPublic%2Fview%3Fid%3DDDEA00000711%0A
X-WR-CALNAME:Maxx Calendar
DTEND:20180528T190000Z
URL:http://www.aipn.maxx.matrixdev.net/forms/meeting/MeetingFormPublic/view?id=DDEA00000711
END:VEVENT
END:VCALENDAR