BEGIN:VCALENDAR
PRODID:-//MatrixMaxx//RemoteApi//EN
VERSION:2.0
METHOD:PUBLISH
CALSCALE:GREGORIAN
X-ORIGINAL-URL:http://www.aipn.maxx.matrixdev.net/forms/meeting/Microsite/Europe12March2024
BEGIN:VEVENT
SUMMARY:Europe Chapter Event "Key Commercial and Legal Issues Arising in Reaching Economic License for a CCS Project in the UK"
LAST-MODIFIED:20240312T183000Z
UID:ci_E153B00000013@matrixgroup.net
CLASS:PUBLIC
CREATED:20240312T183000Z
DTSTAMP:20240312T183000Z
DTSTART:20240312T183000Z
X-FUNAMBOL-ALLDAY:1
LOCATION:Bracewell
DESCRIPTION:For+full+info+see+http%3A%2F%2Fwww.aipn.maxx.matrixdev.net%2Fforms%2Fmeeting%2FMicrosite%2FEurope12March2024%0A
X-WR-CALDESC:For+full+info+see+http%3A%2F%2Fwww.aipn.maxx.matrixdev.net%2Fforms%2Fmeeting%2FMicrosite%2FEurope12March2024%0A
X-WR-CALNAME:Maxx Calendar
DTEND:20240312T213000Z
URL:http://www.aipn.maxx.matrixdev.net/forms/meeting/Microsite/Europe12March2024
END:VEVENT
END:VCALENDAR