BEGIN:VCALENDAR
PRODID:-//MatrixMaxx//RemoteApi//EN
VERSION:2.0
METHOD:PUBLISH
CALSCALE:GREGORIAN
X-ORIGINAL-URL:http://www.aipn.maxx.matrixdev.net/forms/meeting/MeetingFormPublic/view?id=E280000000E7
BEGIN:VEVENT
SUMMARY:Europe and MENA Chapter Event in Beirut
LAST-MODIFIED:20180622T133000Z
UID:ci_E280000000E7@matrixgroup.net
CLASS:PUBLIC
CREATED:20180622T133000Z
DTSTAMP:20180622T133000Z
DTSTART:20180622T133000Z
X-FUNAMBOL-ALLDAY:1
LOCATION:Smallvillle+Hotel+in+Badaro
DESCRIPTION:For+full+info+see+http%3A%2F%2Fwww.aipn.maxx.matrixdev.net%2Fforms%2Fmeeting%2FMeetingFormPublic%2Fview%3Fid%3DE280000000E7%0A
X-WR-CALDESC:For+full+info+see+http%3A%2F%2Fwww.aipn.maxx.matrixdev.net%2Fforms%2Fmeeting%2FMeetingFormPublic%2Fview%3Fid%3DE280000000E7%0A
X-WR-CALNAME:Maxx Calendar
DTEND:20180622T163000Z
URL:http://www.aipn.maxx.matrixdev.net/forms/meeting/MeetingFormPublic/view?id=E280000000E7
END:VEVENT
END:VCALENDAR