BEGIN:VCALENDAR
PRODID:-//MatrixMaxx//RemoteApi//EN
VERSION:2.0
METHOD:PUBLISH
CALSCALE:GREGORIAN
X-ORIGINAL-URL:http://www.aipn.maxx.matrixdev.net/forms/meeting/MeetingFormPublic/view?id=E3F600000083
BEGIN:VEVENT
SUMMARY:CIS-FSU Chapter Event "The Evolving JOA Worldwide"
LAST-MODIFIED:20180529T153000Z
UID:ci_E3F600000083@matrixgroup.net
CLASS:PUBLIC
CREATED:20180529T153000Z
DTSTAMP:20180529T153000Z
DTSTART:20180529T153000Z
X-FUNAMBOL-ALLDAY:1
LOCATION:Morgan+Lewis+Offices
DESCRIPTION:For+full+info+see+http%3A%2F%2Fwww.aipn.maxx.matrixdev.net%2Fforms%2Fmeeting%2FMeetingFormPublic%2Fview%3Fid%3DE3F600000083%0A
X-WR-CALDESC:For+full+info+see+http%3A%2F%2Fwww.aipn.maxx.matrixdev.net%2Fforms%2Fmeeting%2FMeetingFormPublic%2Fview%3Fid%3DE3F600000083%0A
X-WR-CALNAME:Maxx Calendar
DTEND:20180529T183000Z
URL:http://www.aipn.maxx.matrixdev.net/forms/meeting/MeetingFormPublic/view?id=E3F600000083
END:VEVENT
END:VCALENDAR