BEGIN:VCALENDAR
PRODID:-//MatrixMaxx//RemoteApi//EN
VERSION:2.0
METHOD:PUBLISH
CALSCALE:GREGORIAN
X-ORIGINAL-URL:http://www.aipn.maxx.matrixdev.net/forms/meeting/MeetingFormPublic/view?id=E453000000FD
BEGIN:VEVENT
SUMMARY:Africa Chapter Networking Reception
LAST-MODIFIED:20180606T160000Z
UID:ci_E453000000FD@matrixgroup.net
CLASS:PUBLIC
CREATED:20180606T160000Z
DTSTAMP:20180606T160000Z
DTSTART:20180606T160000Z
X-FUNAMBOL-ALLDAY:1
LOCATION:Junkembo
DESCRIPTION:For+full+info+see+http%3A%2F%2Fwww.aipn.maxx.matrixdev.net%2Fforms%2Fmeeting%2FMeetingFormPublic%2Fview%3Fid%3DE453000000FD%0A
X-WR-CALDESC:For+full+info+see+http%3A%2F%2Fwww.aipn.maxx.matrixdev.net%2Fforms%2Fmeeting%2FMeetingFormPublic%2Fview%3Fid%3DE453000000FD%0A
X-WR-CALNAME:Maxx Calendar
DTEND:20180606T190000Z
URL:http://www.aipn.maxx.matrixdev.net/forms/meeting/MeetingFormPublic/view?id=E453000000FD
END:VEVENT
END:VCALENDAR