BEGIN:VCALENDAR
PRODID:-//MatrixMaxx//RemoteApi//EN
VERSION:2.0
METHOD:PUBLISH
CALSCALE:GREGORIAN
X-ORIGINAL-URL:http://www.aipn.maxx.matrixdev.net/forms/meeting/Microsite/LARC10April2024
BEGIN:VEVENT
SUMMARY:Latin America & Caribbean Chapter Event "Energy Contract Negotiations: Better Results in Less Time"
LAST-MODIFIED:20240410T170000Z
UID:ci_E554000000002@matrixgroup.net
CLASS:PUBLIC
CREATED:20240410T170000Z
DTSTAMP:20240410T170000Z
DTSTART:20240410T170000Z
X-FUNAMBOL-ALLDAY:1
LOCATION:University+of+Guyana
DESCRIPTION:For+full+info+see+http%3A%2F%2Fwww.aipn.maxx.matrixdev.net%2Fforms%2Fmeeting%2FMicrosite%2FLARC10April2024%0A
X-WR-CALDESC:For+full+info+see+http%3A%2F%2Fwww.aipn.maxx.matrixdev.net%2Fforms%2Fmeeting%2FMicrosite%2FLARC10April2024%0A
X-WR-CALNAME:Maxx Calendar
DTEND:20240410T200000Z
URL:http://www.aipn.maxx.matrixdev.net/forms/meeting/Microsite/LARC10April2024
END:VEVENT
END:VCALENDAR