BEGIN:VCALENDAR
PRODID:-//MatrixMaxx//RemoteApi//EN
VERSION:2.0
METHOD:PUBLISH
CALSCALE:GREGORIAN
X-ORIGINAL-URL:http://www.aipn.maxx.matrixdev.net/forms/meeting/Microsite/Asia21March2024
BEGIN:VEVENT
SUMMARY:Asia Chapter & SPE Thailand Event "Greenwashing and ESG: What You Need to Know"
LAST-MODIFIED:20240321T100000Z
UID:ci_E62AF00000094@matrixgroup.net
CLASS:PUBLIC
CREATED:20240321T100000Z
DTSTAMP:20240321T100000Z
DTSTART:20240321T100000Z
X-FUNAMBOL-ALLDAY:1
LOCATION:The+Landmark+Hotel
DESCRIPTION:For+full+info+see+http%3A%2F%2Fwww.aipn.maxx.matrixdev.net%2Fforms%2Fmeeting%2FMicrosite%2FAsia21March2024%0A
X-WR-CALDESC:For+full+info+see+http%3A%2F%2Fwww.aipn.maxx.matrixdev.net%2Fforms%2Fmeeting%2FMicrosite%2FAsia21March2024%0A
X-WR-CALNAME:Maxx Calendar
DTEND:20240321T123000Z
URL:http://www.aipn.maxx.matrixdev.net/forms/meeting/Microsite/Asia21March2024
END:VEVENT
END:VCALENDAR