BEGIN:VCALENDAR
PRODID:-//MatrixMaxx//RemoteApi//EN
VERSION:2.0
METHOD:PUBLISH
CALSCALE:GREGORIAN
X-ORIGINAL-URL:http://www.aipn.maxx.matrixdev.net/forms/meeting/Microsite/AP18March2024
BEGIN:VEVENT
SUMMARY:Australia-Pacific Chapter Event "Australia, Timor-Leste and the Timor Sea Activities in the Aftermath of the 2019 Maritime Boundaries Treaty"
LAST-MODIFIED:20240318T090000Z
UID:ci_E62CE00000001@matrixgroup.net
CLASS:PUBLIC
CREATED:20240318T090000Z
DTSTAMP:20240318T090000Z
DTSTART:20240318T090000Z
X-FUNAMBOL-ALLDAY:1
LOCATION:Dentons
DESCRIPTION:For+full+info+see+http%3A%2F%2Fwww.aipn.maxx.matrixdev.net%2Fforms%2Fmeeting%2FMicrosite%2FAP18March2024%0A
X-WR-CALDESC:For+full+info+see+http%3A%2F%2Fwww.aipn.maxx.matrixdev.net%2Fforms%2Fmeeting%2FMicrosite%2FAP18March2024%0A
X-WR-CALNAME:Maxx Calendar
DTEND:20240318T103000Z
URL:http://www.aipn.maxx.matrixdev.net/forms/meeting/Microsite/AP18March2024
END:VEVENT
END:VCALENDAR