BEGIN:VCALENDAR
PRODID:-//MatrixMaxx//RemoteApi//EN
VERSION:2.0
METHOD:PUBLISH
CALSCALE:GREGORIAN
X-ORIGINAL-URL:http://www.aipn.maxx.matrixdev.net/forms/meeting/Microsite/Asia28March2024
BEGIN:VEVENT
SUMMARY:Asia Chapter Event "The Emergence of APAC Carbon Markets: A Trader's Perspective"
LAST-MODIFIED:20240328T100000Z
UID:ci_EA9E60000000F@matrixgroup.net
CLASS:PUBLIC
CREATED:20240328T100000Z
DTSTAMP:20240328T100000Z
DTSTART:20240328T100000Z
X-FUNAMBOL-ALLDAY:1
LOCATION:Dallas+Restaurant+and+Bar
DESCRIPTION:For full info see http://www.aipn.maxx.matrixdev.net/forms/meeting/Microsite/Asia28March2024\n
DTEND:20240328T130000Z
URL:http://www.aipn.maxx.matrixdev.net/forms/meeting/Microsite/Asia28March2024
END:VEVENT
END:VCALENDAR