BEGIN:VCALENDAR
PRODID:-//MatrixMaxx//RemoteApi//EN
VERSION:2.0
METHOD:PUBLISH
CALSCALE:GREGORIAN
X-ORIGINAL-URL:http://www.aipn.maxx.matrixdev.net/forms/meeting/Microsite/Europe24April2024
BEGIN:VEVENT
SUMMARY:Europe Chapter Hybrid Event "Natural Gas, a Transitional Energy"
LAST-MODIFIED:20240424T150000Z
UID:ci_EB51E000000AC@matrixgroup.net
CLASS:PUBLIC
CREATED:20240424T150000Z
DTSTAMP:20240424T150000Z
DTSTART:20240424T150000Z
X-FUNAMBOL-ALLDAY:1
LOCATION:ENGIE
DESCRIPTION:For full info see http://www.aipn.maxx.matrixdev.net/forms/meeting/Microsite/Europe24April2024\n
DTEND:20240424T170000Z
URL:http://www.aipn.maxx.matrixdev.net/forms/meeting/Microsite/Europe24April2024
END:VEVENT
END:VCALENDAR