BEGIN:VCALENDAR
PRODID:-//MatrixMaxx//RemoteApi//EN
VERSION:2.0
METHOD:PUBLISH
CALSCALE:GREGORIAN
X-ORIGINAL-URL:http://www.aipn.maxx.matrixdev.net/forms/meeting/MeetingFormPublic/view?id=EB800000032D
BEGIN:VEVENT
SUMMARY:Africa Chapter & LACIAC Dispute Resolution Workshop
LAST-MODIFIED:20180702T150000Z
UID:ci_EB800000032D@matrixgroup.net
CLASS:PUBLIC
CREATED:20180702T150000Z
DTSTAMP:20180702T150000Z
DTSTART:20180702T150000Z
X-FUNAMBOL-ALLDAY:1
LOCATION:Conference+Hall%2C+Lagos+Chamber+of+Commerce+and+Industry+Building+%28Commerce+House%29
DESCRIPTION:For full info see http://www.aipn.maxx.matrixdev.net/forms/meeting/MeetingFormPublic/view?id=EB800000032D\n
DTEND:20180702T180000Z
URL:http://www.aipn.maxx.matrixdev.net/forms/meeting/MeetingFormPublic/view?id=EB800000032D
END:VEVENT
END:VCALENDAR