BEGIN:VCALENDAR
PRODID:-//MatrixMaxx//RemoteApi//EN
VERSION:2.0
METHOD:PUBLISH
CALSCALE:GREGORIAN
X-ORIGINAL-URL:http://www.aipn.maxx.matrixdev.net/forms/meeting/Microsite/LARC9May2024
BEGIN:VEVENT
SUMMARY:Latin America and Caribbean Chapter Event "Energizing Diversity – Women Leadership in the Energy Sector"
LAST-MODIFIED:20240509T113000Z
UID:ci_ECBD400000003@matrixgroup.net
CLASS:PUBLIC
CREATED:20240509T113000Z
DTSTAMP:20240509T113000Z
DTSTART:20240509T113000Z
X-FUNAMBOL-ALLDAY:1
LOCATION:Trench+Rossi+Watanabe+Advogados
DESCRIPTION:For+full+info+see+http%3A%2F%2Fwww.aipn.maxx.matrixdev.net%2Fforms%2Fmeeting%2FMicrosite%2FLARC9May2024%0A
X-WR-CALDESC:For+full+info+see+http%3A%2F%2Fwww.aipn.maxx.matrixdev.net%2Fforms%2Fmeeting%2FMicrosite%2FLARC9May2024%0A
X-WR-CALNAME:Maxx Calendar
DTEND:20240509T143000Z
URL:http://www.aipn.maxx.matrixdev.net/forms/meeting/Microsite/LARC9May2024
END:VEVENT
END:VCALENDAR