BEGIN:VCALENDAR
PRODID:-//MatrixMaxx//RemoteApi//EN
VERSION:2.0
METHOD:PUBLISH
CALSCALE:GREGORIAN
X-ORIGINAL-URL:http://www.aipn.maxx.matrixdev.net/forms/meeting/Microsite/AP19April2024
BEGIN:VEVENT
SUMMARY:Australia-Pacific Chapter Educational Seminar "Legal and Contractual Aspects of Natural Gas Projects"
LAST-MODIFIED:20240419T060000Z
UID:ci_ECBD8000000C1@matrixgroup.net
CLASS:PUBLIC
CREATED:20240419T060000Z
DTSTAMP:20240419T060000Z
DTSTART:20240419T060000Z
X-FUNAMBOL-ALLDAY:1
LOCATION:
DESCRIPTION:For+full+info+see+http%3A%2F%2Fwww.aipn.maxx.matrixdev.net%2Fforms%2Fmeeting%2FMicrosite%2FAP19April2024%0A
X-WR-CALDESC:For+full+info+see+http%3A%2F%2Fwww.aipn.maxx.matrixdev.net%2Fforms%2Fmeeting%2FMicrosite%2FAP19April2024%0A
X-WR-CALNAME:Maxx Calendar
DTEND:20240419T100000Z
URL:http://www.aipn.maxx.matrixdev.net/forms/meeting/Microsite/AP19April2024
END:VEVENT
END:VCALENDAR