BEGIN:VCALENDAR
PRODID:-//MatrixMaxx//RemoteApi//EN
VERSION:2.0
METHOD:PUBLISH
CALSCALE:GREGORIAN
X-ORIGINAL-URL:http://www.aipn.maxx.matrixdev.net/forms/meeting/Microsite/USYN16August2018
BEGIN:VEVENT
SUMMARY:AIPN-YN US Chapter Breakfast Speaker Series "United We Stand, Divided We Fall: Building an Effective Lawyer-Negotiator Team"
LAST-MODIFIED:20180816T121500Z
UID:ci_F07900000576@matrixgroup.net
CLASS:PUBLIC
CREATED:20180816T121500Z
DTSTAMP:20180816T121500Z
DTSTART:20180816T121500Z
X-FUNAMBOL-ALLDAY:1
LOCATION:Office+of+Mayer+Brown+LLP
DESCRIPTION:For+full+info+see+http%3A%2F%2Fwww.aipn.maxx.matrixdev.net%2Fforms%2Fmeeting%2FMicrosite%2FUSYN16August2018%0A
X-WR-CALDESC:For+full+info+see+http%3A%2F%2Fwww.aipn.maxx.matrixdev.net%2Fforms%2Fmeeting%2FMicrosite%2FUSYN16August2018%0A
X-WR-CALNAME:Maxx Calendar
DTEND:20180816T140000Z
URL:http://www.aipn.maxx.matrixdev.net/forms/meeting/Microsite/USYN16August2018
END:VEVENT
END:VCALENDAR