BEGIN:VCALENDAR
PRODID:-//MatrixMaxx//RemoteApi//EN
VERSION:2.0
METHOD:PUBLISH
CALSCALE:GREGORIAN
X-ORIGINAL-URL:http://www.aipn.maxx.matrixdev.net/forms/meeting/Microsite/Asia23April2024
BEGIN:VEVENT
SUMMARY:Asia Chapter Event "Investment Treaty Arbitration in the Energy Sector"
LAST-MODIFIED:20240423T110000Z
UID:ci_F11A60000003A@matrixgroup.net
CLASS:PUBLIC
CREATED:20240423T110000Z
DTSTAMP:20240423T110000Z
DTSTART:20240423T110000Z
X-FUNAMBOL-ALLDAY:1
LOCATION:Faculty+of+Law%2C+Thammasat+University+Tha+Prachan+Campus
DESCRIPTION:For+full+info+see+http%3A%2F%2Fwww.aipn.maxx.matrixdev.net%2Fforms%2Fmeeting%2FMicrosite%2FAsia23April2024%0A
X-WR-CALDESC:For+full+info+see+http%3A%2F%2Fwww.aipn.maxx.matrixdev.net%2Fforms%2Fmeeting%2FMicrosite%2FAsia23April2024%0A
X-WR-CALNAME:Maxx Calendar
DTEND:20240423T130000Z
URL:http://www.aipn.maxx.matrixdev.net/forms/meeting/Microsite/Asia23April2024
END:VEVENT
END:VCALENDAR