BEGIN:VCALENDAR
PRODID:-//MatrixMaxx//RemoteApi//EN
VERSION:2.0
METHOD:PUBLISH
CALSCALE:GREGORIAN
X-ORIGINAL-URL:http://www.aipn.maxx.matrixdev.net/forms/meeting/Microsite/Africa25April2024
BEGIN:VEVENT
SUMMARY:Africa Chapter Event "Local Content within the Context of Mozambique's Petroleum Industry and Legislation”
LAST-MODIFIED:20240425T070000Z
UID:ci_F11E60000009B@matrixgroup.net
CLASS:PUBLIC
CREATED:20240425T070000Z
DTSTAMP:20240425T070000Z
DTSTART:20240425T070000Z
X-FUNAMBOL-ALLDAY:1
LOCATION:MozUp
DESCRIPTION:For full info see http://www.aipn.maxx.matrixdev.net/forms/meeting/Microsite/Africa25April2024\n
DTEND:20240425T093000Z
URL:http://www.aipn.maxx.matrixdev.net/forms/meeting/Microsite/Africa25April2024
END:VEVENT
END:VCALENDAR