BEGIN:VCALENDAR
PRODID:-//MatrixMaxx//RemoteApi//EN
VERSION:2.0
METHOD:PUBLISH
CALSCALE:GREGORIAN
X-ORIGINAL-URL:http://www.aipn.maxx.matrixdev.net/forms/meeting/Microsite/Asia25April2024
BEGIN:VEVENT
SUMMARY:Asia Chapter Networking Reception
LAST-MODIFIED:20240425T103000Z
UID:ci_F120C00000002@matrixgroup.net
CLASS:PUBLIC
CREATED:20240425T103000Z
DTSTAMP:20240425T103000Z
DTSTART:20240425T103000Z
X-FUNAMBOL-ALLDAY:1
LOCATION:The+Dharmawangsa+Hotel+Jakarta
DESCRIPTION:For+full+info+see+http%3A%2F%2Fwww.aipn.maxx.matrixdev.net%2Fforms%2Fmeeting%2FMicrosite%2FAsia25April2024%0A
X-WR-CALDESC:For+full+info+see+http%3A%2F%2Fwww.aipn.maxx.matrixdev.net%2Fforms%2Fmeeting%2FMicrosite%2FAsia25April2024%0A
X-WR-CALNAME:Maxx Calendar
DTEND:20240425T123000Z
URL:http://www.aipn.maxx.matrixdev.net/forms/meeting/Microsite/Asia25April2024
END:VEVENT
END:VCALENDAR