BEGIN:VCALENDAR
PRODID:-//MatrixMaxx//RemoteApi//EN
VERSION:2.0
METHOD:PUBLISH
CALSCALE:GREGORIAN
X-ORIGINAL-URL:http://www.aipn.maxx.matrixdev.net/forms/meeting/MeetingFormPublic/view?id=F16700000009
BEGIN:VEVENT
SUMMARY:AIPN-YN Europe Summer Reception
LAST-MODIFIED:20180718T170000Z
UID:ci_F16700000009@matrixgroup.net
CLASS:PUBLIC
CREATED:20180718T170000Z
DTSTAMP:20180718T170000Z
DTSTART:20180718T170000Z
X-FUNAMBOL-ALLDAY:1
LOCATION:The+Oyster+Shed
DESCRIPTION:For full info see http://www.aipn.maxx.matrixdev.net/forms/meeting/MeetingFormPublic/view?id=F16700000009\n
DTEND:20180718T203000Z
URL:http://www.aipn.maxx.matrixdev.net/forms/meeting/MeetingFormPublic/view?id=F16700000009
END:VEVENT
END:VCALENDAR