BEGIN:VCALENDAR
PRODID:-//MatrixMaxx//RemoteApi//EN
VERSION:2.0
METHOD:PUBLISH
CALSCALE:GREGORIAN
X-ORIGINAL-URL:http://www.aipn.maxx.matrixdev.net/forms/meeting/Microsite/Asia16May2024
BEGIN:VEVENT
SUMMARY:Asia Chapter Event "Political Developments and the Energy Sector – The Philippines and Indonesia"
LAST-MODIFIED:20240516T100000Z
UID:ci_F245900000024@matrixgroup.net
CLASS:PUBLIC
CREATED:20240516T100000Z
DTSTAMP:20240516T100000Z
DTSTART:20240516T100000Z
X-FUNAMBOL-ALLDAY:1
LOCATION:Dallas+Restaurant+and+Bar
DESCRIPTION:For+full+info+see+http%3A%2F%2Fwww.aipn.maxx.matrixdev.net%2Fforms%2Fmeeting%2FMicrosite%2FAsia16May2024%0A
X-WR-CALDESC:For+full+info+see+http%3A%2F%2Fwww.aipn.maxx.matrixdev.net%2Fforms%2Fmeeting%2FMicrosite%2FAsia16May2024%0A
X-WR-CALNAME:Maxx Calendar
DTEND:20240516T130000Z
URL:http://www.aipn.maxx.matrixdev.net/forms/meeting/Microsite/Asia16May2024
END:VEVENT
END:VCALENDAR