BEGIN:VCALENDAR
PRODID:-//MatrixMaxx//RemoteApi//EN
VERSION:2.0
METHOD:PUBLISH
CALSCALE:GREGORIAN
X-ORIGINAL-URL:http://www.aipn.maxx.matrixdev.net/forms/meeting/Microsite/Europe29May2024
BEGIN:VEVENT
SUMMARY:Europe Chapter Hybrid Event "Carbon Capture and Storage: Legal and Contractual Update of CCS Developments in the UK and US"
LAST-MODIFIED:20240529T163000Z
UID:ci_F7E74000000EC@matrixgroup.net
CLASS:PUBLIC
CREATED:20240529T163000Z
DTSTAMP:20240529T163000Z
DTSTART:20240529T163000Z
X-FUNAMBOL-ALLDAY:1
LOCATION:Robert+Gordon+University
DESCRIPTION:For+full+info+see+http%3A%2F%2Fwww.aipn.maxx.matrixdev.net%2Fforms%2Fmeeting%2FMicrosite%2FEurope29May2024%0A
X-WR-CALDESC:For+full+info+see+http%3A%2F%2Fwww.aipn.maxx.matrixdev.net%2Fforms%2Fmeeting%2FMicrosite%2FEurope29May2024%0A
X-WR-CALNAME:Maxx Calendar
DTEND:20240529T193000Z
URL:http://www.aipn.maxx.matrixdev.net/forms/meeting/Microsite/Europe29May2024
END:VEVENT
END:VCALENDAR