BEGIN:VCALENDAR
PRODID:-//MatrixMaxx//RemoteApi//EN
VERSION:2.0
METHOD:PUBLISH
CALSCALE:GREGORIAN
X-ORIGINAL-URL:http://www.aipn.maxx.matrixdev.net/forms/meeting/Microsite/MENA19May2024
BEGIN:VEVENT
SUMMARY:MENA Chapter Event "The Future of Energy in Oman"
LAST-MODIFIED:20240519T050000Z
UID:ci_F7EE100000002@matrixgroup.net
CLASS:PUBLIC
CREATED:20240519T050000Z
DTSTAMP:20240519T050000Z
DTSTART:20240519T050000Z
X-FUNAMBOL-ALLDAY:1
LOCATION:InterContinental+Hotel
DESCRIPTION:For full info see http://www.aipn.maxx.matrixdev.net/forms/meeting/Microsite/MENA19May2024\n
DTEND:20240519T103000Z
URL:http://www.aipn.maxx.matrixdev.net/forms/meeting/Microsite/MENA19May2024
END:VEVENT
END:VCALENDAR