BEGIN:VCALENDAR
PRODID:-//MatrixMaxx//RemoteApi//EN
VERSION:2.0
METHOD:PUBLISH
CALSCALE:GREGORIAN
X-ORIGINAL-URL:http://www.aipn.maxx.matrixdev.net/forms/meeting/Microsite/US30May2024
BEGIN:VEVENT
SUMMARY:US Chapter Luncheon "Offshore Decommissioning: Legal Updates, Challenges, and Opportunities"
LAST-MODIFIED:20240530T163000Z
UID:ci_F90D800000001@matrixgroup.net
CLASS:PUBLIC
CREATED:20240530T163000Z
DTSTAMP:20240530T163000Z
DTSTART:20240530T163000Z
X-FUNAMBOL-ALLDAY:1
LOCATION:White+%26+Case
DESCRIPTION:For+full+info+see+http%3A%2F%2Fwww.aipn.maxx.matrixdev.net%2Fforms%2Fmeeting%2FMicrosite%2FUS30May2024%0A
X-WR-CALDESC:For+full+info+see+http%3A%2F%2Fwww.aipn.maxx.matrixdev.net%2Fforms%2Fmeeting%2FMicrosite%2FUS30May2024%0A
X-WR-CALNAME:Maxx Calendar
DTEND:20240530T180000Z
URL:http://www.aipn.maxx.matrixdev.net/forms/meeting/Microsite/US30May2024
END:VEVENT
END:VCALENDAR