BEGIN:VCALENDAR
PRODID:-//MatrixMaxx//RemoteApi//EN
VERSION:2.0
METHOD:PUBLISH
CALSCALE:GREGORIAN
X-ORIGINAL-URL:http://www.aipn.maxx.matrixdev.net/forms/meeting/Microsite/US18June2024
BEGIN:VEVENT
SUMMARY:US Chapter Event "LNG Trading in the Energy Transition"
LAST-MODIFIED:20240618T130000Z
UID:ci_FD55C00000007@matrixgroup.net
CLASS:PUBLIC
CREATED:20240618T130000Z
DTSTAMP:20240618T130000Z
DTSTART:20240618T130000Z
X-FUNAMBOL-ALLDAY:1
LOCATION:Latham+%26+Watkins
DESCRIPTION:For+full+info+see+http%3A%2F%2Fwww.aipn.maxx.matrixdev.net%2Fforms%2Fmeeting%2FMicrosite%2FUS18June2024%0A
X-WR-CALDESC:For+full+info+see+http%3A%2F%2Fwww.aipn.maxx.matrixdev.net%2Fforms%2Fmeeting%2FMicrosite%2FUS18June2024%0A
X-WR-CALNAME:Maxx Calendar
DTEND:20240618T143000Z
URL:http://www.aipn.maxx.matrixdev.net/forms/meeting/Microsite/US18June2024
END:VEVENT
END:VCALENDAR